BEGIN:VCALENDAR
METHOD:PUBLISH
VERSION:2.0
PRODID:-//Eventilla iCal Syndication//NONSGML Liana//EN
BEGIN:VEVENT
UID:1Eda8@eventilla.com
DTSTAMP:20260212T063000Z
DTSTART:20260212T063000Z
DTEND:20260212T080000Z
SUMMARY:Side Event Kitee / Business Café: Älykkäämpi Markkinointi 2026 – käytännön vinkit pk-yrityksen tehokkaaseen markkinointiin
DESCRIPTION:Tervetuloa Business Café -aamukahveille Side Eventiin Kiteelle!\nEtäyhteyden kautta osallistumismahdollisuus Joensuun tilaisuuteen Kiteen toimipisteellämme\, paikkoja rajoitetusti! \nMiten pk-yritys voi tehostaa markkinointia ja kasvattaa myyntiä vuonna 2026 – myös pienellä budjetilla? Tässä tilaisuudessa saat käytännönläheisiä vinkkejä ja nykyaikaisia keinoja\, joilla teet markkinoinnista suunnitelmallisempaa\, nopeampaa ja tuloksellisempaa.\nPuheenvuorossa ovat tekoälyn hyödyntämisen pioneerit Ville Puustinen (Tovari) ja Arttu Käyhkö (Käyhkö & Co). He jakavat konkreettisia esimerkkejä ja työkaluja\, joilla tehostat näkyvyyttä\, tuotat sisältöjä fiksummin ja viet markkinoinnin lähemmäs myyntiä – arjen tekemisessä.\nTilaisuuteen sisältyy aamukahvit ja aikaa verkostoitumiselle.\nTilaisuus on maksuton\, mutta järjestelyjen vuoksi pyydämme ystävällisesti ilmoittautumaan ennakolta.\n\nLisätietoja tilaisuuden sisällöstä:Ilona Ohvanainen📞 050 526 1253✉️ ilona.ohvanainen@businessjoensuu.fi\nLisätietoja Kiteen Side Eventistä:Katariina Eskelinen📞 040 140 7505✉️ katariina.eskelinen@businessjoensuu.fi
LOCATION:Business Joensuun Kiteen toimipiste (Kiteen kaupungintalo,
 Vire-kokoustila)\, Kiteentie 9-11\, 82500\, Kitee\, Suomi
URL:http://tapahtumat.businessjoensuu.fi/event/1Eda8
END:VEVENT
END:VCALENDAR
