BEGIN:VCALENDAR
METHOD:PUBLISH
VERSION:2.0
PRODID:-//Eventilla iCal Syndication//NONSGML Liana//EN
BEGIN:VEVENT
UID:71Mr1@eventilla.com
DTSTAMP:20260521T053000Z
DTSTART:20260521T053000Z
DTEND:20260521T070000Z
SUMMARY:Business Café: Brändi kasvun tekijänä
DESCRIPTION:Tervetuloa Business Café -aamukahveille!\nBrändi kasvun tekijänä\nJokaisella yrityksellä on brändi – halusi sitä tai ei. Mutta mikä tekee brändistä aidosti kasvua rakentavan tekijän?\nBusiness Caféssa pureudutaan brändin voimaan kahdesta näkökulmasta. Wave-R:n yksi perustajajäsenistä Santeri Silvennoinen avaa\, miten vaikuttavuus ja ihmislähtöinen tekeminen rakentavat brändiä\, joka myös kasvattaa liiketoimintaa. Vaganzan strategisti Tuomas Kinnunen puolestaan muistuttaa\, että brändin ydin ei ole parhaus vaan erilaisuus – ja kertoo\, miksi johdonmukaisuus on ratkaisevaa vetovoiman kannalta sekä miten murtaa oman toimialan kliseet.\nTule inspiroitumaan ja hakemaan käytännön ajatuksia brändin kehittämiseen ja kasvun vauhdittamiseen.\nTilaisuuteen sisältyy aamukahvit ja aikaa verkostoitumiselle. Kahvia on tarjolla klo 8:00 alkaen.\nTilaisuus on maksuton\, mutta järjestelyjen vuoksi pyydämme ystävällisesti ilmoittautumaan ennakolta.\n\nLisätietoja:Timo Hartikainen📞 0504685492✉️ timo.hartikainen@businessjoensuu.fi
LOCATION:Business Joensuun Lounge, (rakennus 3B, 4. krs)\, Länsikatu 15\,
 80110\, Joensuu\, Suomi
URL:http://tapahtumat.businessjoensuu.fi/event/71Mr1
END:VEVENT
END:VCALENDAR
