BEGIN:VCALENDAR
METHOD:PUBLISH
VERSION:2.0
PRODID:-//Eventilla iCal Syndication//NONSGML Liana//EN
BEGIN:VEVENT
UID:VEzJX@eventilla.com
DTSTAMP:20260212T063000Z
DTSTART:20260212T063000Z
DTEND:20260212T080000Z
SUMMARY:Business Café: Älykkäämpi Markkinointi 2026 – käytännön vinkit pk-yrityksen tehokkaaseen markkinointiin
DESCRIPTION:Tervetuloa Business Café -aamukahveille!\nMiten pk-yritys voi tehostaa markkinointia ja kasvattaa myyntiä vuonna 2026 – myös pienellä budjetilla? Tässä tilaisuudessa saat käytännönläheisiä vinkkejä ja nykyaikaisia keinoja\, joilla teet markkinoinnista suunnitelmallisempaa\, nopeampaa ja tuloksellisempaa.\nPuheenvuorossa ovat tekoälyn hyödyntämisen pioneerit Ville Puustinen (Tovari) ja Arttu Käyhkö (Käyhkö & Co). He jakavat konkreettisia esimerkkejä ja työkaluja\, joilla tehostat näkyvyyttä\, tuotat sisältöjä fiksummin ja viet markkinoinnin lähemmäs myyntiä – arjen tekemisessä.\nTilaisuuteen sisältyy aamukahvit ja aikaa verkostoitumiselle.\nTilaisuus on maksuton\, mutta järjestelyjen vuoksi pyydämme ystävällisesti ilmoittautumaan ennakolta.\nMahdollista on osallistua tilaisuuteen myös etänä Kiteen Side Eventissä\, johon ilmoittautuminen:  Ilmoittautuminen Kiteen Side Event 12.2.2026\n\nLisätietoja:Ilona Ohvanainen📞 050 526 1253✉️ ilona.ohvanainen@businessjoensuu.fi
LOCATION:Orange Hall, (rakennus 3A, 4. krs)\, Länsikatu 15\, 80110\,
 Joensuu\, Suomi
URL:http://tapahtumat.businessjoensuu.fi/event/VEzJX
END:VEVENT
END:VCALENDAR
